BEGIN:VCALENDAR
VERSION:2.0
PRODID:-//Rise For Climate March San Diego - ECPv6.6.4.2//NONSGML v1.0//EN
CALSCALE:GREGORIAN
METHOD:PUBLISH
X-WR-CALNAME:Rise For Climate March San Diego
X-ORIGINAL-URL:https://rise4climate.org
X-WR-CALDESC:Events for Rise For Climate March San Diego
REFRESH-INTERVAL;VALUE=DURATION:PT1H
X-Robots-Tag:noindex
X-PUBLISHED-TTL:PT1H
BEGIN:VTIMEZONE
TZID:UTC
BEGIN:STANDARD
TZOFFSETFROM:+0000
TZOFFSETTO:+0000
TZNAME:UTC
DTSTART:20180101T000000
END:STANDARD
END:VTIMEZONE
BEGIN:VEVENT
DTSTART;TZID=UTC:20180815T183000
DTEND;TZID=UTC:20180815T200000
DTSTAMP:20260425T014311
CREATED:20180814T163354Z
LAST-MODIFIED:20180814T163607Z
UID:736-1534357800-1534363200@rise4climate.org
SUMMARY:Rise for Climate San Diego Volunteer Work Party
DESCRIPTION:Help us make the global day of action Rise for Climate San Diego’s biggest climate mobilization ever! \nJoin us for a work party. We’ll make phone calls\, distribute outreach assignments and flyers\, and plan our event at a member’s home in La Jolla Location will be sent in confirmation email when you register here. \n* If you can help us to make calls\, please bring your own laptop and cell phone.
URL:https://rise4climate.org/event/rise-for-climate-san-diego-volunteer-work-party/
END:VEVENT
END:VCALENDAR